BEGIN:VCALENDAR
VERSION:2.0
PRODID:-//My Oily Village - ECPv6.15.20//NONSGML v1.0//EN
CALSCALE:GREGORIAN
METHOD:PUBLISH
X-WR-CALNAME:My Oily Village
X-ORIGINAL-URL:https://myoilyvillage.com
X-WR-CALDESC:Events for My Oily Village
REFRESH-INTERVAL;VALUE=DURATION:PT1H
X-Robots-Tag:noindex
X-PUBLISHED-TTL:PT1H
BEGIN:VTIMEZONE
TZID:America/New_York
BEGIN:DAYLIGHT
TZOFFSETFROM:-0500
TZOFFSETTO:-0400
TZNAME:EDT
DTSTART:20180311T070000
END:DAYLIGHT
BEGIN:STANDARD
TZOFFSETFROM:-0400
TZOFFSETTO:-0500
TZNAME:EST
DTSTART:20181104T060000
END:STANDARD
BEGIN:DAYLIGHT
TZOFFSETFROM:-0500
TZOFFSETTO:-0400
TZNAME:EDT
DTSTART:20190310T070000
END:DAYLIGHT
BEGIN:STANDARD
TZOFFSETFROM:-0400
TZOFFSETTO:-0500
TZNAME:EST
DTSTART:20191103T060000
END:STANDARD
BEGIN:DAYLIGHT
TZOFFSETFROM:-0500
TZOFFSETTO:-0400
TZNAME:EDT
DTSTART:20200308T070000
END:DAYLIGHT
BEGIN:STANDARD
TZOFFSETFROM:-0400
TZOFFSETTO:-0500
TZNAME:EST
DTSTART:20201101T060000
END:STANDARD
BEGIN:DAYLIGHT
TZOFFSETFROM:-0500
TZOFFSETTO:-0400
TZNAME:EDT
DTSTART:20210314T070000
END:DAYLIGHT
BEGIN:STANDARD
TZOFFSETFROM:-0400
TZOFFSETTO:-0500
TZNAME:EST
DTSTART:20211107T060000
END:STANDARD
END:VTIMEZONE
BEGIN:VEVENT
DTSTART;TZID=America/New_York:20200223T103000
DTEND;TZID=America/New_York:20200223T113000
DTSTAMP:20260425T121301
CREATED:20200203T192602Z
LAST-MODIFIED:20200204T191920Z
UID:1218-1582453800-1582457400@myoilyvillage.com
SUMMARY:Coffee & Conversation - 5 favorites
DESCRIPTION:Come join me for coffee\, tea\, snacks and some conversation about today’s favorite five things!  You’re welcome to shop in my overstock drawer\, and smell any oil I have open.  I’ll be highlighting the new vitality drops for you to sample also. The two flavors\, Lavender Lemonade & Grapefruit Bergamot\, are formulated with naturally occurring electrolytes from the Great Salt Lake and all-natural flavors\, including YL’s Vitality essential oils.     \n\n\n\n Bring your own favorites to share if you like!  \n\n\n\n\n\n\n\n\n\n\nShare this:\n				Email a link to a friend (Opens in new window)\n				Email\n			\n				Share on Facebook (Opens in new window)\n				Facebook\n			\n				Share on Pinterest (Opens in new window)\n				Pinterest\n			\n				Share on X (Opens in new window)\n				X\n			\n				Print (Opens in new window)\n				Print\n			More\n				Share on Reddit (Opens in new window)\n				Reddit\n			\n				Share on Telegram (Opens in new window)\n				Telegram\n			\n				Share on Tumblr (Opens in new window)\n				Tumblr\n			\n				Share on WhatsApp (Opens in new window)\n				WhatsApp\n			\n				Share on LinkedIn (Opens in new window)\n				LinkedIn\n			Like this:Like Loading...
URL:https://myoilyvillage.com/event/coffee-conversation-5-favorites/
CATEGORIES:bath,class,cleaning,education,gifts,home,skin,wellness
ATTACH;FMTTYPE=image/jpeg:https://myoilyvillage.com/wp-content/uploads/2020/02/selective-focus-photography-of-person-touch-the-white-704813.jpg
END:VEVENT
BEGIN:VEVENT
DTSTART;TZID=America/New_York:20200217T120000
DTEND;TZID=America/New_York:20200217T130000
DTSTAMP:20260425T121301
CREATED:20191201T041228Z
LAST-MODIFIED:20200204T191812Z
UID:774-1581940800-1581944400@myoilyvillage.com
SUMMARY:president's day
DESCRIPTION:Share this:\n				Email a link to a friend (Opens in new window)\n				Email\n			\n				Share on Facebook (Opens in new window)\n				Facebook\n			\n				Share on Pinterest (Opens in new window)\n				Pinterest\n			\n				Share on X (Opens in new window)\n				X\n			\n				Print (Opens in new window)\n				Print\n			More\n				Share on Reddit (Opens in new window)\n				Reddit\n			\n				Share on Telegram (Opens in new window)\n				Telegram\n			\n				Share on Tumblr (Opens in new window)\n				Tumblr\n			\n				Share on WhatsApp (Opens in new window)\n				WhatsApp\n			\n				Share on LinkedIn (Opens in new window)\n				LinkedIn\n			Like this:Like Loading...
URL:https://myoilyvillage.com/event/presidents-day/
END:VEVENT
BEGIN:VEVENT
DTSTART;TZID=America/New_York:20200214T120000
DTEND;TZID=America/New_York:20200214T130000
DTSTAMP:20260425T121301
CREATED:20191201T041142Z
LAST-MODIFIED:20191201T041148Z
UID:772-1581681600-1581685200@myoilyvillage.com
SUMMARY:valentine's day
DESCRIPTION:Share this:\n				Email a link to a friend (Opens in new window)\n				Email\n			\n				Share on Facebook (Opens in new window)\n				Facebook\n			\n				Share on Pinterest (Opens in new window)\n				Pinterest\n			\n				Share on X (Opens in new window)\n				X\n			\n				Print (Opens in new window)\n				Print\n			More\n				Share on Reddit (Opens in new window)\n				Reddit\n			\n				Share on Telegram (Opens in new window)\n				Telegram\n			\n				Share on Tumblr (Opens in new window)\n				Tumblr\n			\n				Share on WhatsApp (Opens in new window)\n				WhatsApp\n			\n				Share on LinkedIn (Opens in new window)\n				LinkedIn\n			Like this:Like Loading...
URL:https://myoilyvillage.com/event/valentines-day/
END:VEVENT
BEGIN:VEVENT
DTSTART;TZID=America/New_York:20200209T130000
DTEND;TZID=America/New_York:20200209T150000
DTSTAMP:20260425T121301
CREATED:20200131T181754Z
LAST-MODIFIED:20200131T185250Z
UID:1199-1581253200-1581260400@myoilyvillage.com
SUMMARY:Elderberry syrup making  - **kids welcome
DESCRIPTION:Elderberry syrup – come join me while we make and bottle our own elderberry syrup!  Home made is always best\, you’ll know EXACTLY what is (and isn’t) in this bottle of amazing goodness! \n\n\n\nTake a look at this study – taken at the first sign of illness\, elderberry was shown to reduce the duration and severity of the illness. Many people take a small daily dose as a prophylactic against getting sick.  What do you think? My son and I take it every day. \n\n\n\nDuring this class I will make the syrup: everyone will bottle their own\, and take home 2 one-ounce bottles of syrup and the recipe to make it at home. \n\n\n\nAll the ingredients are organic! We’ll be using local honey from Springdell Farms\, and you’ll have the option to add in some oils if you’d like\, such as orange\, lemon or others.Who’s in?!   \n\n\n\n\n\n **Kids (5 and older\, or infants in carriers) are welcome to come play in the yard on their own while we make the syrup.    \n\n\n\n\n\n\n\n\nShare this:\n				Email a link to a friend (Opens in new window)\n				Email\n			\n				Share on Facebook (Opens in new window)\n				Facebook\n			\n				Share on Pinterest (Opens in new window)\n				Pinterest\n			\n				Share on X (Opens in new window)\n				X\n			\n				Print (Opens in new window)\n				Print\n			More\n				Share on Reddit (Opens in new window)\n				Reddit\n			\n				Share on Telegram (Opens in new window)\n				Telegram\n			\n				Share on Tumblr (Opens in new window)\n				Tumblr\n			\n				Share on WhatsApp (Opens in new window)\n				WhatsApp\n			\n				Share on LinkedIn (Opens in new window)\n				LinkedIn\n			Like this:Like Loading...
URL:https://myoilyvillage.com/event/elderberry-syrup-making-kids-welcome/
LOCATION:Pam’s house\, Acton MA\, Flint rd\, Acton\, MA\, 01720\, United States
CATEGORIES:class,wellness
ATTACH;FMTTYPE=image/jpeg:https://myoilyvillage.com/wp-content/uploads/2020/01/Elderberry-491243226-small-e1580492750145.jpg
END:VEVENT
BEGIN:VEVENT
DTSTART;TZID=America/New_York:20200206T180000
DTEND;TZID=America/New_York:20200206T190000
DTSTAMP:20260425T121301
CREATED:20200114T175233Z
LAST-MODIFIED:20200123T155244Z
UID:1062-1581012000-1581015600@myoilyvillage.com
SUMMARY:natural perfume class
DESCRIPTION:Perfume is one of life’s pleasures.  Want to learn how to create your own chemical free fragrances?  Imagine the look on your loved one’s face when you give them a custom-made by you perfume!   Once you see how easy it is to create your own personalized natural scents\, you’ll never buy synthetic fragrances again.  \n\n\n\nIn this class you’ll learn about the different notes of perfume\, some popular top\, middle and base notes\, and a proven formula for making these work together.  I’ll have pre-made samples of each scent choice for you to smell\, and three different containers from which to choose.Class fee of $25 includes supplies\, oils and 2 perfumes\, with 7 different recipes to choose from.  Choices include a 10 ml roll on or a 2-oz spray  perfume.  Scent choices are: Fresh & Kicky\,  Sensuous & Deep\, Sweet & Summery\, Bright & Refreshing\, Wild & Woody\, or Rich & Spicy.  If supplies are available\, additional perfumes can be made and purchased.Also included with the class is a take home reference so you can recreate your special fragrance.  \n\n\n\n \n\n\n\n\n\n\n\n\n\n\nShare this:\n				Email a link to a friend (Opens in new window)\n				Email\n			\n				Share on Facebook (Opens in new window)\n				Facebook\n			\n				Share on Pinterest (Opens in new window)\n				Pinterest\n			\n				Share on X (Opens in new window)\n				X\n			\n				Print (Opens in new window)\n				Print\n			More\n				Share on Reddit (Opens in new window)\n				Reddit\n			\n				Share on Telegram (Opens in new window)\n				Telegram\n			\n				Share on Tumblr (Opens in new window)\n				Tumblr\n			\n				Share on WhatsApp (Opens in new window)\n				WhatsApp\n			\n				Share on LinkedIn (Opens in new window)\n				LinkedIn\n			Like this:Like Loading...
URL:https://myoilyvillage.com/event/natural-perfume-class/
CATEGORIES:class,gifts
ATTACH;FMTTYPE=image/jpeg:https://myoilyvillage.com/wp-content/uploads/2020/01/aroma-aromatherapy-aromatic-blur-264870-1-e1579794634391.jpg
END:VEVENT
BEGIN:VEVENT
DTSTART;TZID=America/New_York:20200120T120000
DTEND;TZID=America/New_York:20200120T130000
DTSTAMP:20260425T121301
CREATED:20191201T041305Z
LAST-MODIFIED:20191201T041309Z
UID:776-1579521600-1579525200@myoilyvillage.com
SUMMARY:mlk\,jr. day
DESCRIPTION:Share this:\n				Email a link to a friend (Opens in new window)\n				Email\n			\n				Share on Facebook (Opens in new window)\n				Facebook\n			\n				Share on Pinterest (Opens in new window)\n				Pinterest\n			\n				Share on X (Opens in new window)\n				X\n			\n				Print (Opens in new window)\n				Print\n			More\n				Share on Reddit (Opens in new window)\n				Reddit\n			\n				Share on Telegram (Opens in new window)\n				Telegram\n			\n				Share on Tumblr (Opens in new window)\n				Tumblr\n			\n				Share on WhatsApp (Opens in new window)\n				WhatsApp\n			\n				Share on LinkedIn (Opens in new window)\n				LinkedIn\n			Like this:Like Loading...
URL:https://myoilyvillage.com/event/mlkjr-day/
END:VEVENT
BEGIN:VEVENT
DTSTART;TZID=America/New_York:20200116T180000
DTEND;TZID=America/New_York:20200116T190000
DTSTAMP:20260425T121301
CREATED:20200113T211712Z
LAST-MODIFIED:20200113T211719Z
UID:1055-1579197600-1579201200@myoilyvillage.com
SUMMARY:Dessert at Pam's house - intro to the beginners oil kit
DESCRIPTION:Let’s start 2020 out right with gaining more control\, and better tools.   Just imagine a lifestyle with less over the counter drugs\, more control over what affects your home environment and the ease of having the tools you need on hand to support that healthy lifestyle. \n\n\n\nWhen would be a good time to learn these things\, later?  after the next head cold\, bout of ‘flu\, or stomach bug? Or now?  If you’re like me\, you’ll want to get this info before those things come up again. \n\n\n\nJoin me in learning some simple swaps to a healthier home. I’m hosting a group at my house\, where together we will learn about the essential oils in Young Living’s beginner’s oil kit.   Dessert will be served. \n\n\n\nReserve your spot on FB\, and DM me for the exact address. https://www.facebook.com/events/1414409465393098/  \n\n\nShare this:\n				Email a link to a friend (Opens in new window)\n				Email\n			\n				Share on Facebook (Opens in new window)\n				Facebook\n			\n				Share on Pinterest (Opens in new window)\n				Pinterest\n			\n				Share on X (Opens in new window)\n				X\n			\n				Print (Opens in new window)\n				Print\n			More\n				Share on Reddit (Opens in new window)\n				Reddit\n			\n				Share on Telegram (Opens in new window)\n				Telegram\n			\n				Share on Tumblr (Opens in new window)\n				Tumblr\n			\n				Share on WhatsApp (Opens in new window)\n				WhatsApp\n			\n				Share on LinkedIn (Opens in new window)\n				LinkedIn\n			Like this:Like Loading...
URL:https://myoilyvillage.com/event/dessert-at-pams-house-intro-to-the-beginners-oil-kit/
LOCATION:Acton\, MA\, United States
CATEGORIES:class,education
ATTACH;FMTTYPE=image/jpeg:https://myoilyvillage.com/wp-content/uploads/2020/01/00-EOSG-Presentation-2019-Header-e1580843626952.jpg
END:VEVENT
BEGIN:VEVENT
DTSTART;TZID=America/New_York:20200109T190000
DTEND;TZID=America/New_York:20200109T200000
DTSTAMP:20260425T121301
CREATED:20200105T001500Z
LAST-MODIFIED:20200104T002443Z
UID:973-1578596400-1578600000@myoilyvillage.com
SUMMARY:Essential Oils - learning some simple swaps to a healthier home
DESCRIPTION:It’s a new year\, a new decade.  How open minded will you be?  How curious are you to learn new ideas and methods?  How would you feel about learning how prior generations stayed healthy?  So many of us are less healthy than our fore-bearers\, in spite of our modern conveniences! \n\n\n\nJust imagine a lifestyle with less over the counter drugs\, more control over what affects your home environment and the ease of having the tools you need on hand to support that healthy lifestyle. \n\n\n\n\n\n\n\nWhen would be a good time to learn these things\, later?  after the next head cold\, bout of ‘flu\, or stomach bug? Or… how about now?  If you’re like me\, you’ll want to get this info before those things come up again. \n\n\n\nJoin me in learning some simple swaps to a healthier home. I’m hosting a learning circle at my home on January 9th\, Thursday\, 7 pm\, where together we will learn about the essential oils in Young Living’s beginner’s oil kit.  \n\n\n\nReady?  Let’s start 2020 out right with gaining more control\, and better tools.  RSVP now and join me on the 9th.  I’m excited to see you!  \n\n\n\nFacebook RSVP:  https://www.facebook.com/events/2435810296748136/ Eventbrite RSVP: https://www.eventbrite.com/e/88192079885  \n\n\n\n\n\n\n\n\n\n\nShare this:\n				Email a link to a friend (Opens in new window)\n				Email\n			\n				Share on Facebook (Opens in new window)\n				Facebook\n			\n				Share on Pinterest (Opens in new window)\n				Pinterest\n			\n				Share on X (Opens in new window)\n				X\n			\n				Print (Opens in new window)\n				Print\n			More\n				Share on Reddit (Opens in new window)\n				Reddit\n			\n				Share on Telegram (Opens in new window)\n				Telegram\n			\n				Share on Tumblr (Opens in new window)\n				Tumblr\n			\n				Share on WhatsApp (Opens in new window)\n				WhatsApp\n			\n				Share on LinkedIn (Opens in new window)\n				LinkedIn\n			Like this:Like Loading...
URL:https://myoilyvillage.com/event/essential-oils-learning-some-simple-swaps-to-a-healthier-home/
CATEGORIES:education
END:VEVENT
BEGIN:VEVENT
DTSTART;TZID=America/New_York:20200101T120000
DTEND;TZID=America/New_York:20200101T130000
DTSTAMP:20260425T121301
CREATED:20191201T041033Z
LAST-MODIFIED:20191201T041036Z
UID:770-1577880000-1577883600@myoilyvillage.com
SUMMARY:new year's day
DESCRIPTION:Share this:\n				Email a link to a friend (Opens in new window)\n				Email\n			\n				Share on Facebook (Opens in new window)\n				Facebook\n			\n				Share on Pinterest (Opens in new window)\n				Pinterest\n			\n				Share on X (Opens in new window)\n				X\n			\n				Print (Opens in new window)\n				Print\n			More\n				Share on Reddit (Opens in new window)\n				Reddit\n			\n				Share on Telegram (Opens in new window)\n				Telegram\n			\n				Share on Tumblr (Opens in new window)\n				Tumblr\n			\n				Share on WhatsApp (Opens in new window)\n				WhatsApp\n			\n				Share on LinkedIn (Opens in new window)\n				LinkedIn\n			Like this:Like Loading...
URL:https://myoilyvillage.com/event/new-years-day/
END:VEVENT
BEGIN:VEVENT
DTSTART;TZID=America/New_York:20191225T120000
DTEND;TZID=America/New_York:20191225T130000
DTSTAMP:20260425T121301
CREATED:20191201T035855Z
LAST-MODIFIED:20191201T035859Z
UID:762-1577275200-1577278800@myoilyvillage.com
SUMMARY:christmas day
DESCRIPTION:Share this:\n				Email a link to a friend (Opens in new window)\n				Email\n			\n				Share on Facebook (Opens in new window)\n				Facebook\n			\n				Share on Pinterest (Opens in new window)\n				Pinterest\n			\n				Share on X (Opens in new window)\n				X\n			\n				Print (Opens in new window)\n				Print\n			More\n				Share on Reddit (Opens in new window)\n				Reddit\n			\n				Share on Telegram (Opens in new window)\n				Telegram\n			\n				Share on Tumblr (Opens in new window)\n				Tumblr\n			\n				Share on WhatsApp (Opens in new window)\n				WhatsApp\n			\n				Share on LinkedIn (Opens in new window)\n				LinkedIn\n			Like this:Like Loading...
URL:https://myoilyvillage.com/event/christmas-day/
END:VEVENT
BEGIN:VEVENT
DTSTART;TZID=America/New_York:20191211T190000
DTEND;TZID=America/New_York:20191211T203000
DTSTAMP:20260425T121301
CREATED:20191130T150000Z
LAST-MODIFIED:20191201T041827Z
UID:747-1576090800-1576096200@myoilyvillage.com
SUMMARY:hand crafted holiday gifts made easy
DESCRIPTION:Need an easy teacher gift? or maybe one for the school bus driver? OH WAIT – how about your hair stylist..the kid’s piano teacher…the mail carrier…. the list goes on. There’s so many people to thank this time of year it can be daunting finding the just the right item.   I’m not sure this is for you\, but I just may have the solution you’re looking for.  \n\n\n\nJust imagine how you would feel if someone gifted a package of hand made items as a thank you. Come on over to my house and make these much appreciated homemade gifts!  I’ll provide the ingredients\, oils\, and I’ll have gift bags available. When you leave all you need to do is start handing out gifts!  \n\n\n\n You will have 6 items to choose from.  You can make as many or as few of each item as you need/want.  The class fee of $12 ($10 + Eventbrite fee) includes two items\, each item after those first two is $5 each to make and bring home.   When you RSVP\, please let me know how much of each item you’ll want to make via the contact page here: https://myoilyvillage.com/contact-us/ \n\n\n\nstress away bath salts\n\npanaway sore muscle relief cream\n\nlemon peppermint room freshener\n\nchristmas spirit room spray\n\nlavender rosemary oatmeal bath soak\n\npeace & calm homemade bubble bath \n\n\n\nI’ll bet you’re a bit like me\, I love to make homemade gifts\, but I want someone else to do all the set up.  If you are\, then this is the perfect event for you.  Head over to Eventbrite here to register and reserve your spot. \n\n\nShare this:\n				Email a link to a friend (Opens in new window)\n				Email\n			\n				Share on Facebook (Opens in new window)\n				Facebook\n			\n				Share on Pinterest (Opens in new window)\n				Pinterest\n			\n				Share on X (Opens in new window)\n				X\n			\n				Print (Opens in new window)\n				Print\n			More\n				Share on Reddit (Opens in new window)\n				Reddit\n			\n				Share on Telegram (Opens in new window)\n				Telegram\n			\n				Share on Tumblr (Opens in new window)\n				Tumblr\n			\n				Share on WhatsApp (Opens in new window)\n				WhatsApp\n			\n				Share on LinkedIn (Opens in new window)\n				LinkedIn\n			Like this:Like Loading...
URL:https://myoilyvillage.com/event/hand-crafted-holiday-gifts-made-easy/
CATEGORIES:bath,gifts,skin
ATTACH;FMTTYPE=image/jpeg:https://myoilyvillage.com/wp-content/uploads/2019/12/top-view-photography-of-blacboard-between-baubles-1303095-scaled.jpg
END:VEVENT
BEGIN:VEVENT
DTSTART;TZID=America/New_York:20191208T140000
DTEND;TZID=America/New_York:20191208T160000
DTSTAMP:20260425T121301
CREATED:20191203T144041Z
LAST-MODIFIED:20191203T144046Z
UID:821-1575813600-1575820800@myoilyvillage.com
SUMMARY:private kids spa party
DESCRIPTION:Kids creating their own spa products! I will lead the girls to create kid friendly\, all-natural lavender mud mask\, lavender face wash\, geranium face spritz and a calming sleep perfume to take home. If you’d like to do this with your child/ren\, please contact me and we’ll chat. Kids classes are always a favorite of mine to lead! \n\n\n\n\n\n\n\n\n\n\nShare this:\n				Email a link to a friend (Opens in new window)\n				Email\n			\n				Share on Facebook (Opens in new window)\n				Facebook\n			\n				Share on Pinterest (Opens in new window)\n				Pinterest\n			\n				Share on X (Opens in new window)\n				X\n			\n				Print (Opens in new window)\n				Print\n			More\n				Share on Reddit (Opens in new window)\n				Reddit\n			\n				Share on Telegram (Opens in new window)\n				Telegram\n			\n				Share on Tumblr (Opens in new window)\n				Tumblr\n			\n				Share on WhatsApp (Opens in new window)\n				WhatsApp\n			\n				Share on LinkedIn (Opens in new window)\n				LinkedIn\n			Like this:Like Loading...
URL:https://myoilyvillage.com/event/private-kids-spa-party/
ATTACH;FMTTYPE=image/jpeg:https://myoilyvillage.com/wp-content/uploads/2019/12/essential-oils-2535611_640-1.jpg
END:VEVENT
BEGIN:VEVENT
DTSTART;TZID=America/New_York:20191205T190000
DTEND;TZID=America/New_York:20191205T200000
DTSTAMP:20260425T121301
CREATED:20191201T035807Z
LAST-MODIFIED:20191202T222458Z
UID:760-1575572400-1575576000@myoilyvillage.com
SUMMARY:umass lowell - prep for finals
DESCRIPTION:Due to school closings and Ezeikiel the snow storm\, this has been rescheduled for Thursday Dec 5. \n\n\n\n\n\n\n\nI’ll be up at UMass Lowell helping the students make focus and stress reducing roller bottles as they prepare to take their final exams. This event is sponsored by the UMass Lowell Public Health department and is open only to students of the university. \n\n\n\n\nShare this:\n				Email a link to a friend (Opens in new window)\n				Email\n			\n				Share on Facebook (Opens in new window)\n				Facebook\n			\n				Share on Pinterest (Opens in new window)\n				Pinterest\n			\n				Share on X (Opens in new window)\n				X\n			\n				Print (Opens in new window)\n				Print\n			More\n				Share on Reddit (Opens in new window)\n				Reddit\n			\n				Share on Telegram (Opens in new window)\n				Telegram\n			\n				Share on Tumblr (Opens in new window)\n				Tumblr\n			\n				Share on WhatsApp (Opens in new window)\n				WhatsApp\n			\n				Share on LinkedIn (Opens in new window)\n				LinkedIn\n			Like this:Like Loading...
URL:https://myoilyvillage.com/event/umass-lowell-prep-for-finals/
END:VEVENT
END:VCALENDAR